Workbook

Sheet РАСЧЕТ
L2: ПРИЛОЖЕНИЕ № 3
L3: Утвержден
L4: приказом и.о.директора
L5: КОГБУСО "Кировский дом- интернат для престарелых и инвалидов"
L6: от 25.03.2026 № 43-од
B8: РАСЧЕТ тарифа по предоставлению платных услуг в отделении временного проживания КОГБУСО "Кировский дом- интернат для престарелых и инвалидов"
B10: (наименование учреждения)
A11: № п/п | B11: Наименование услуги | C11: Норма времени, утвержденная приказом министра социального развития Кировской области (час.) | D11: Часовой фонд (Ч) оплаты труда персонала, оказывающего услугу (руб.), из приложения 2 | E11: Социальные отчисления (СО) на часовой фонд оплаты труда персонала, оказывающего услугу (руб.) | F11: Материальные затраты (МЗ) в расчете на один час оплаты труда персонала, оказывающего услугу (руб.) из приложения 3 | G11: Прочие прямые затраты (ПП) в расчете на один час оплаты труда персонала, оказывающего услугу (руб.) из приложения 4 | H11: Всего прямые расходы (ПРу) на 1 услугу (руб.) гр.8=гр.3 х (гр.4+гр.5+гр.6+ гр.7) | I11: Коэффициент косвенных расходов (Ккр) из приложения 9 | J11: Косвенные расходы (КРу) на 1 услугу (руб.) | K11: Подушевой норматив финансирования (руб), за одну оказанную услугу (гр. 11 = гр. 8 + гр. 10) | L11: периодичность предоставления | M11: Группа ухода - мобильные | N11: Группа ухода - маломобильные | O11: Группа ухода - немобильные | P11: Примечание (тариф/расчет)
B12: 2 | C12: 3 | D12: 4 | E12: 5 | F12: 6 | G12: 7 | H12: 8 | I12: 9 | J12: 10 | K12: 11
A13: 3.1.1. | B13: Предоставление жилых помещений, помещений для организации социально-реабилитационных и социокультурных мероприятий | C13: Х | D13: Х | E13: Х | F13: Х | G13: Х | H13: Х | I13: Х | J13: Х | K13: =прил.5!J13 -> 261.45333 | L13: ежедневно | M13: 261.45 | N13: 261.45 | O13: 261.45 | P13: расчет
A14: 3.1.2.(1) | B14: Обеспечение питанием согласно утвержденным нормативам (для совершеннолетних в стационарных организациях (отделениях) социального обслуживания ). | C14: Х | D14: Х | E14: Х | F14: Х | G14: Х | H14: Х | I14: Х | J14: Х | K14: 353.4 | L14: ежедневно | M14: 353.4 | N14: 353.4 | O14: 353.4 | P14: с 01.01.2026
A15: 3.1.2.1. | B15: Оказание помощи при приеме пищи | C15: 0.16 | D15: =прил.2!I222 -> 180.87056 | E15: =D15*30.2/100 -> 54.622909 | F15: =прил.3!I222 -> 22.920667 | G15: =прил.4!F222 -> 0 | H15: =C15*SUM(D15:G15) -> 41.346262 | I15: =прил.9!C115 -> 0.76646072 | J15: =H15*I15 -> 31.690286 | K15: =H15+J15 -> 73.036548 | L15: ежедневно | M15: 0 | N15: 0 | O15: 42.52 | P15: с 01.01.2026
A16: 3.1.2.2. | B16: Оказание помощи в передвижении по помещению | C16: 0.18 | D16: =прил.2!I223 -> 180.87056 | E16: =D16*30.2/100 -> 54.622909 | F16: =прил.3!I223 -> 0 | G16: =прил.4!F223 -> 0 | H16: =C16*SUM(D16:G16) -> 42.388825 | I16: =прил.9!C115 -> 0.76646072 | J16: =H16*I16 -> 32.489369 | K16: =H16+J16 -> 74.878194 | L16: ежедневно | M16: 0 | N16: 22.68 | O16: 22.68 | P16: с 01.01.2026
A17: 3.1.3. | B17: Предоставление в пользование мебели согласно утвержденным нормативам | C17: Х | D17: Х | E17: Х | F17: Х | G17: Х | H17: Х | I17: Х | J17: Х | K17: =прил.5!J19 -> 33.752751 | L17: ежедневно | M17: 25.21 | N17: 25.21 | O17: 25.21 | P17: с 01.01.2026
A18: 3.1.4. | B18: Обеспечение книгами, журналами, газетами, настольными играми, иным инвентарем для организации досуга | C18: Х | D18: Х | E18: Х | F18: Х | G18: Х | H18: Х | I18: Х | J18: Х | K18: =прил.5!J20 -> 7.4833167 | L18: ежедневно | M18: 7.48 | N18: 7.48 | O18: 7.48 | P18: расчет
A19: 3.1.5. | B19: Обеспечение мягким инвентарем (одеждой, обувью и постельными принадлежностями) согласно утвержденным нормативам | C19: Х | D19: Х | E19: Х | F19: Х | G19: Х | H19: Х | I19: Х | J19: Х | K19: =прил.5!J21 -> 30.695899 | L19: ежедневно | M19: 53.14 | N19: 53.14 | O19: 53.14 | P19: с 01.01.2026
A20: 3.1.6. | B20: Стирка одежды и постельного белья, чистка одежды | C20: 1.42 | D20: =прил.2!I227 -> 181.07394 | E20: =D20*30.2/100 -> 54.684329 | F20: =прил.3!I227 -> 42.681657 | G20: =прил.4!F227 -> 42.681657 | H20: =C20*SUM(D20:G20) -> 455.99264 | I20: =прил.9!C115 -> 0.76646072 | J20: =H20*I20 -> 349.50045 | K20: =H20+J20 -> 805.4931 | L20: по мере необходимости | M20: 299.32 | N20: 299.32 | O20: 299.32 | P20: с 01.01.2026
A21: 3.1.9.1. | B21: Умывание | C21: 0.07 | D21: =прил.2!I230 -> 180.87056 | E21: =D21*30.2/100 -> 54.622909 | F21: =прил.3!I230 -> 0 | G21: =прил.4!F230 -> 0 | H21: =C21*SUM(D21:G21) -> 16.484543 | I21: =прил.9!C115 -> 0.76646072 | J21: =H21*I21 -> 12.634755 | K21: =H21+J21 -> 29.119298 | L21: ежедневно | M21: 0 | N21: 0 | O21: 29.12 | P21: расчет
A22: 3.1.9.2. | B22: Обтирание и (или) обмывание | C22: 0.15 | D22: =прил.2!I231 -> 180.87056 | E22: =D22*30.2/100 -> 54.622909 | F22: =прил.3!I231 -> 0 | G22: =прил.4!F231 -> 0 | H22: =C22*SUM(D22:G22) -> 35.324021 | I22: =прил.9!C115 -> 0.76646072 | J22: =H22*I22 -> 27.074474 | K22: =H22+J22 -> 62.398495 | L22: ежедневно | M22: 0 | N22: 0 | O22: 32.6 | P22: с 01.01.2026
A23: 3.1.9.3. | B23: Причесывание волос | C23: 0.08 | D23: =прил.2!I232 -> 180.87056 | E23: =D23*30.2/100 -> 54.622909 | F23: =прил.3!I232 -> 0 | G23: =прил.4!F232 -> 0 | H23: =C23*SUM(D23:G23) -> 18.839478 | I23: =прил.9!C115 -> 0.76646072 | J23: =H23*I23 -> 14.43972 | K23: =H23+J23 -> 33.279197 | L23: ежедневно | M23: 0 | N23: 0 | O23: =K23/30 -> 1.1093066 | P23: расчет
A24: 3.1.9.4. | B24: Стрижка и (или) подравнивание волос | C24: 0.15 | D24: =прил.2!I233 -> 161.93148 | E24: =D24*30.2/100 -> 48.903307 | F24: =прил.3!I233 -> 0 | G24: =прил.4!F233 -> 0 | H24: =C24*SUM(D24:G24) -> 31.625218 | I24: =прил.9!C115 -> 0.76646072 | J24: =H24*I24 -> 24.239488 | K24: =H24+J24 -> 55.864706 | L24: по мере необходимости | M24: 55.86 | N24: 55.86 | O24: 55.86 | P24: расчет
A25: 3.1.9.5. | B25: Стрижка ногтей на руках | C25: 0.12 | D25: =прил.2!I234 -> 180.87056 | E25: =D25*30.2/100 -> 54.622909 | F25: =прил.3!I234 -> 0 | G25: =прил.4!F234 -> 0 | H25: =C25*SUM(D25:G25) -> 28.259216 | I25: =прил.9!C115 -> 0.76646072 | J25: =H25*I25 -> 21.65958 | K25: =H25+J25 -> 49.918796 | L25: по мере необходимости | M25: 1.66 | N25: 1.66 | O25: =K25/30 -> 1.6639599 | P25: расчет
A26: 3.1.9.6. | B26: Стрижка ногтей на ногах | C26: 0.18 | D26: =прил.2!I235 -> 180.87056 | E26: =D26*30.2/100 -> 54.622909 | F26: =прил.3!I235 -> 0 | G26: =прил.4!F235 -> 0 | H26: =C26*SUM(D26:G26) -> 42.388825 | I26: =прил.9!C115 -> 0.76646072 | J26: =H26*I26 -> 32.489369 | K26: =H26+J26 -> 74.878194 | L26: по мере необходимости | M26: 2.5 | N26: 2.5 | O26: =K26/30 -> 2.4959398 | P26: расчет
A27: 3.1.9.8. | B27: Оказание помощи в смене нательного белья | C27: 0.15 | D27: =прил.2!I237 -> 180.87056 | E27: =D27*30.2/100 -> 54.622909 | F27: =прил.3!I237 -> 0 | G27: =прил.4!F237 -> 0 | H27: =C27*SUM(D27:G27) -> 35.324021 | I27: =прил.9!C115 -> 0.76646072 | J27: =H27*I27 -> 27.074474 | K27: =H27+J27 -> 62.398495 | L27: по мере необходимости | M27: 0 | N27: 2.08 | O27: =K27/30 -> 2.0799498 | P27: расчет
A28: 3.1.9.9. | B28: Оказание помощи в смене постельного белья | C28: 0.18 | D28: =прил.2!I238 -> 180.87056 | E28: =D28*30.2/100 -> 54.622909 | F28: =прил.3!I238 -> 0 | G28: =прил.4!F238 -> 0 | H28: =C28*SUM(D28:G28) -> 42.388825 | I28: =прил.9!C115 -> 0.76646072 | J28: =H28*I28 -> 32.489369 | K28: =H28+J28 -> 74.878194 | L28: по мере необходимости | M28: 0 | N28: 2.5 | O28: =K28/30 -> 2.4959398 | P28: расчет
A29: 3.1.9.10. | B29: Оказание помощи при вставании с постели, укладывании в постель | C29: 0.12 | D29: =прил.2!I239 -> 180.87056 | E29: =D29*30.2/100 -> 54.622909 | F29: =прил.3!I239 -> 0 | G29: =прил.4!F239 -> 0 | H29: =C29*SUM(D29:G29) -> 28.259216 | I29: =прил.9!C115 -> 0.76646072 | J29: =H29*I29 -> 21.65958 | K29: =H29+J29 -> 49.918796 | L29: по мере необходимости | M29: 0 | N29: 0 | O29: =K29/30 -> 1.6639599 | P29: расчет
A30: 3.1.9.11. | B30: Оказание помощи при одевании и (или) раздевании | C30: 0.15 | D30: =прил.2!I240 -> 180.87056 | E30: =D30*30.2/100 -> 54.622909 | F30: =прил.3!I240 -> 0 | G30: =прил.4!F240 -> 0 | H30: =C30*SUM(D30:G30) -> 35.324021 | I30: =прил.9!C115 -> 0.76646072 | J30: =H30*I30 -> 27.074474 | K30: =H30+J30 -> 62.398495 | L30: ежедневно | M30: 0 | N30: 22.68 | O30: 22.68 | P30: с 01.01.2026
A31: 3.1.9.12. | B31: Оказание помощи в помывке в ванне, душе, бане | C31: 0.45 | D31: =прил.2!I241 -> 180.87056 | E31: =D31*30.2/100 -> 54.622909 | F31: =прил.3!I241 -> 79.813441 | G31: =прил.4!F241 -> 0 | H31: =C31*SUM(D31:G31) -> 141.88811 | I31: =прил.9!C115 -> 0.76646072 | J31: =H31*I31 -> 108.75166 | K31: =H31+J31 -> 250.63977 | L31: по мере необходимости | M31: 0 | N31: 91.5 | O31: 91.5 | P31: с 01.01.2026
A32: 3.1.9.13. | B32: Оказание помощи в пользовании туалетом, судном подкладным и (или) резервуаром для сбора мочи (уткой) | C32: 0.16 | D32: =прил.2!I242 -> 180.87056 | E32: =D32*30.2/100 -> 54.622909 | F32: =прил.3!I242 -> 7.1627084 | G32: =прил.4!F242 -> 0 | H32: =C32*SUM(D32:G32) -> 38.824989 | I32: =прил.9!C115 -> 0.76646072 | J32: =H32*I32 -> 29.757829 | K32: =H32+J32 -> 68.582817 | L32: ежедневно | M32: 0 | N32: 0 | O32: 33.17 | P32: с 01.01.2026
A33: 3.1.9.14. | B33: Вынос судна подкладного и (или) резервуара для сбора мочи (утки) | C33: 0.15 | D33: =прил.2!I243 -> 180.87056 | E33: =D33*30.2/100 -> 54.622909 | F33: =прил.3!I243 -> 0 | G33: =прил.4!F243 -> 0 | H33: =C33*SUM(D33:G33) -> 35.324021 | I33: =прил.9!C115 -> 0.76646072 | J33: =H33*I33 -> 27.074474 | K33: =H33+J33 -> 62.398495 | L33: ежедневно | M33: 0 | N33: 10.88 | O33: 10.88 | P33: с 01.01.2026
A34: 3.1.9.15. | B34: Смена подгузников или абсорбирующего белья | C34: 0.1 | D34: =прил.2!I244 -> 180.87056 | E34: =D34*30.2/100 -> 54.622909 | F34: =прил.3!I244 -> 0 | G34: =прил.4!F244 -> 0 | H34: =C34*SUM(D34:G34) -> 23.549347 | I34: =прил.9!C115 -> 0.76646072 | J34: =H34*I34 -> 18.04965 | K34: =H34+J34 -> 41.598997 | L34: ежедневно | M34: 0 | N34: 22.68 | O34: 22.68 | P34: с 01.01.2026
A35: 3.1.9.16. | B35: Оказание помощи в ухаживании за зубами и (или) съемными зубными протезами | C35: 0.1 | D35: =прил.2!I245 -> 180.87056 | E35: =D35*30.2/100 -> 54.622909 | F35: =прил.3!I245 -> 0 | G35: =прил.4!F245 -> 0 | H35: =C35*SUM(D35:G35) -> 23.549347 | I35: =прил.9!C115 -> 0.76646072 | J35: =H35*I35 -> 18.04965 | K35: =H35+J35 -> 41.598997 | L35: ежедневно | M35: 0 | N35: 0 | O35: 14.18 | P35: с 01.01.2026
A36: 3.1.9.17. | B36: Оказание помощи в пользовании очками и (или) слуховыми аппаратами | C36: 0.08 | D36: =прил.2!I246 -> 180.87056 | E36: =D36*30.2/100 -> 54.622909 | F36: =прил.3!I246 -> 0 | G36: =прил.4!F246 -> 0 | H36: =C36*SUM(D36:G36) -> 18.839478 | I36: =прил.9!C115 -> 0.76646072 | J36: =H36*I36 -> 14.43972 | K36: =H36+J36 -> 33.279197 | L36: ежедневно | M36: 0 | N36: 0 | O36: 8.5 | P36: с 01.01.2026
A37: 3.2.7. | B37: Профилактика пролежней | C37: 0.42 | D37: =прил.2!I277 -> 222.94502 | E37: =D37*30.2/100 -> 67.329397 | F37: =прил.3!I277 -> 16.182946 | G37: =прил.4!F277 -> 77.180394 | H37: =C37*SUM(D37:G37) -> 161.12786 | I37: =прил.9!C115 -> 0.76646072 | J37: =H37*I37 -> 123.49818 | K37: =H37+J37 -> 284.62603 | L37: ежедневно | M37: 0 | N37: 0 | O37: 123.69 | P37: с 01.01.2026
M38: =SUM(M13:M37) -> 1060.02 | N38: =SUM(N13:N37) -> 1235.02 | O38: =SUM(O13:O37) -> 1521.5691

Sheet прил.1
B2: Расчет подушевых нормативов финансирования социальных услуг, предоставляемых поставщиками социальных услуг на территории Кировской области
B4: (наименование учреждения)
A5: № п/п | B5: Наименование услуги | C5: Норма времени, утвержденная приказом министра социального развития Кировской области (час.) | D5: Часовой фонд (Ч) оплаты труда персонала, оказывающего услугу (руб.), из приложения 2 | E5: Социальные отчисления (СО) на часовой фонд оплаты труда персонала, оказывающего услугу (руб.) | F5: Материальные затраты (МЗ) в расчете на один час оплаты труда персонала, оказывающего услугу (руб.) из приложения 3 | G5: Прочие прямые затраты (ПП) в расчете на один час оплаты труда персонала, оказывающего услугу (руб.) из приложения 4 | H5: Всего прямые расходы (ПРу) на 1 услугу (руб.) гр.8=гр.3 х (гр.4+гр.5+гр.6+ гр.7) | I5: Коэффициент косвенных расходов (Ккр) из приложения 9 | J5: Косвенные расходы (КРу) на 1 услугу (руб.) | K5: Подушевой норматив финансирования (руб), за одну оказанную услугу (гр. 11 = гр. 8 + гр. 10)
B6: 2 | C6: 3 | D6: 4 | E6: 5 | F6: 6 | G6: 7 | H6: 8 | I6: 9 | J6: 10 | K6: 11
A7: 1 | B7: Социальные услуги, предоставляемые в форме социального обслуживания на дому (городская местность)
A8: 1.1. | B8: Социально-бытовые услуги:
A9: 1.1.1. | B9: Покупка за счет средств получателя социальных услуг и доставка на дом продуктов питания, горячих обедов | C9: 0.25 | D9: =прил.2!I9 -> 86.352703 | E9: =D9*30.2/100 -> 26.078516 | F9: =прил.3!I9 -> 0 | G9: =прил.4!F9 -> 0 | H9: =C9*SUM(D9:G9) -> 28.107805 | I9: =прил.9!C115 -> 0.76646072 | J9: =H9*I9 -> 21.543529 | K9: =H9+J9 -> 49.651334
A10: 1.1.1.1 | B10: Покупка за счет средств получателя социальных услуг и доставка на дом промышленных товаров первой необходимости | C10: 0.25 | D10: =прил.2!I10 -> 86.352703 | E10: =D10*30.2/100 -> 26.078516 | F10: =прил.3!I10 -> 0 | G10: =прил.4!F10 -> 0 | H10: =C10*SUM(D10:G10) -> 28.107805 | I10: =прил.9!C115 -> 0.76646072 | J10: =H10*I10 -> 21.543529 | K10: =H10+J10 -> 49.651334
A11: 1.1.1.2 | B11: Покупка за счет средств получателя социальных услуг и доставка на дом средств санитарии и гигиены, средств ухода | C11: 0.25 | D11: =прил.2!I11 -> 86.352703 | E11: =D11*30.2/100 -> 26.078516 | F11: =прил.3!I11 -> 0 | G11: =прил.4!F11 -> 0 | H11: =C11*SUM(D11:G11) -> 28.107805 | I11: =прил.9!C115 -> 0.76646072 | J11: =H11*I11 -> 21.543529 | K11: =H11+J11 -> 49.651334
A12: 1.1.1.3 | B12: Покупка за счет средств получателя социальных услуг и доставка на дом книг, газет, журналов | C12: 0.24 | D12: =прил.2!I12 -> 86.352703 | E12: =D12*30.2/100 -> 26.078516 | F12: =прил.3!I12 -> 0 | G12: =прил.4!F12 -> 0 | H12: =C12*SUM(D12:G12) -> 26.983493 | I12: =прил.9!C115 -> 0.76646072 | J12: =H12*I12 -> 20.681787 | K12: =H12+J12 -> 47.66528
A13: 1.1.2. | B13: Помощь в приготовлении пищи из продуктов питания получателя социальных услуг | C13: 0.5 | D13: =прил.2!I13 -> 86.352703 | E13: =D13*30.2/100 -> 26.078516 | F13: =прил.3!I13 -> 0 | G13: =прил.4!F13 -> 0 | H13: =C13*SUM(D13:G13) -> 56.21561 | I13: =прил.9!C115 -> 0.76646072 | J13: =H13*I13 -> 43.087057 | K13: =H13+J13 -> 99.302667
A14: 1.1.3. | B14: Помощь в приеме пищи | C14: 0.33 | D14: =прил.2!I14 -> 86.352703 | E14: =D14*30.2/100 -> 26.078516 | F14: =прил.3!I14 -> 0 | G14: =прил.4!F14 -> 0 | H14: =C14*SUM(D14:G14) -> 37.102303 | I14: =прил.9!C115 -> 0.76646072 | J14: =H14*I14 -> 28.437458 | K14: =H14+J14 -> 65.53976
A15: 1.1.4. | B15: Содействие в обеспечении за счет средств получателя социальных услуг твердым топливом | C15: 0.4 | D15: =прил.2!I15 -> 86.352703 | E15: =D15*30.2/100 -> 26.078516 | F15: =прил.3!I15 -> 0 | G15: =прил.4!F15 -> 0 | H15: =C15*SUM(D15:G15) -> 44.972488 | I15: =прил.9!C115 -> 0.76646072 | J15: =H15*I15 -> 34.469646 | K15: =H15+J15 -> 79.442134
A16: 1.1.4.1. | B16: Топка печей при наличии печного отопления | C16: 0.43 | D16: =прил.2!I16 -> 86.352703 | E16: =D16*30.2/100 -> 26.078516 | F16: =прил.3!I16 -> 0 | G16: =прил.4!F16 -> 0 | H16: =C16*SUM(D16:G16) -> 48.345425 | I16: =прил.9!C115 -> 0.76646072 | J16: =H16*I16 -> 37.054869 | K16: =H16+J16 -> 85.400294
A17: 1.1.4.2. | B17: Доставка топлива от места хранения к печи | C17: 0.13 | D17: =прил.2!I17 -> 86.352703 | E17: =D17*30.2/100 -> 26.078516 | F17: =прил.3!I17 -> 0 | G17: =прил.4!F17 -> 0 | H17: =C17*SUM(D17:G17) -> 14.616059 | I17: =прил.9!C115 -> 0.76646072 | J17: =H17*I17 -> 11.202635 | K17: =H17+J17 -> 25.818693
A18: 1.1.4.3. | B18: Доставка воды при отсутствии центрального водоснабжения | C18: 0.15 | D18: =прил.2!I18 -> 86.352703 | E18: =D18*30.2/100 -> 26.078516 | F18: =прил.3!I18 -> 0 | G18: =прил.4!F18 -> 0 | H18: =C18*SUM(D18:G18) -> 16.864683 | I18: =прил.9!C115 -> 0.76646072 | J18: =H18*I18 -> 12.926117 | K18: =H18+J18 -> 29.7908
A19: 1.1.5. | B19: Содействие в организации ремонта жилых помещений | C19: 0.5 | D19: =прил.2!I19 -> 86.352703 | E19: =D19*30.2/100 -> 26.078516 | F19: =прил.3!I19 -> 0 | G19: =прил.4!F19 -> 0 | H19: =C19*SUM(D19:G19) -> 56.21561 | I19: =прил.9!C115 -> 0.76646072 | J19: =H19*I19 -> 43.087057 | K19: =H19+J19 -> 99.302667
A20: 1.1.6. | B20: Содействие в организации уборки жилых помещений за счет средств получателя социальных услуг, в том числе с привлечением иных лиц, служб | C20: 0.5 | D20: =прил.2!I20 -> 86.352703 | E20: =D20*30.2/100 -> 26.078516 | F20: =прил.3!I20 -> 0 | G20: =прил.4!F20 -> 0 | H20: =C20*SUM(D20:G20) -> 56.21561 | I20: =прил.9!C115 -> 0.76646072 | J20: =H20*I20 -> 43.087057 | K20: =H20+J20 -> 99.302667
A21: 1.1.6.1 | B21: Уборка жилых помещений | C21: 0.21 | D21: =прил.2!I21 -> 86.352703 | E21: =D21*30.2/100 -> 26.078516 | F21: =прил.3!I21 -> 0 | G21: =прил.4!F21 -> 0 | H21: =C21*SUM(D21:G21) -> 23.610556 | I21: =прил.9!C115 -> 0.76646072 | J21: =H21*I21 -> 18.096564 | K21: =H21+J21 -> 41.70712
A22: 1.1.7. | B22: Сдача за счет средств получателя социальных услуг вещей в стирку, химчистку, ремонт, получение их и доставка получателю социальных услуг | C22: 0.42 | D22: =прил.2!I22 -> 86.352703 | E22: =D22*30.2/100 -> 26.078516 | F22: =прил.3!I22 -> 0 | G22: =прил.4!F22 -> 0 | H22: =C22*SUM(D22:G22) -> 47.221112 | I22: =прил.9!C115 -> 0.76646072 | J22: =H22*I22 -> 36.193128 | K22: =H22+J22 -> 83.41424
A23: 1.1.8. | B23: Содействие в оплате за счет средств получателя социальных услуг жилого помещения, коммунальных услуг и услуг связи | C23: 0.33 | D23: =прил.2!I23 -> 86.352703 | E23: =D23*30.2/100 -> 26.078516 | F23: =прил.3!I23 -> 0 | G23: =прил.4!F23 -> 0 | H23: =C23*SUM(D23:G23) -> 37.102303 | I23: =прил.9!C115 -> 0.76646072 | J23: =H23*I23 -> 28.437458 | K23: =H23+J23 -> 65.53976
A24: 1.1.9. | B24: Оказание помощи в написании и прочтении писем и другой корреспонденции | C24: 0.25 | D24: =прил.2!I24 -> 86.352703 | E24: =D24*30.2/100 -> 26.078516 | F24: =прил.3!I24 -> 0 | G24: =прил.4!F24 -> 0 | H24: =C24*SUM(D24:G24) -> 28.107805 | I24: =прил.9!C115 -> 0.76646072 | J24: =H24*I24 -> 21.543529 | K24: =H24+J24 -> 49.651334
A25: 1.1.10. | B25: Содействие в предоставлении услуг почтовой связи за счет средств получателя социальных услуг | C25: 0.23 | D25: =прил.2!I25 -> 86.352703 | E25: =D25*30.2/100 -> 26.078516 | F25: =прил.3!I25 -> 0 | G25: =прил.4!F25 -> 0 | H25: =C25*SUM(D25:G25) -> 25.859181 | I25: =прил.9!C115 -> 0.76646072 | J25: =H25*I25 -> 19.820046 | K25: =H25+J25 -> 45.679227
A26: 1.1.11. | B26: Сопровождение получателя социальных услуг на прогулке | C26: 0.58 | D26: =прил.2!I26 -> 86.352703 | E26: =D26*30.2/100 -> 26.078516 | F26: =прил.3!I26 -> 0 | G26: =прил.4!F26 -> 0 | H26: =C26*SUM(D26:G26) -> 65.210107 | I26: =прил.9!C115 -> 0.76646072 | J26: =H26*I26 -> 49.980986 | K26: =H26+J26 -> 115.19109
A27: 1.1.12. | B27: Содействие в организации ритуальных услуг | C27: 2.83 | D27: =прил.2!I27 -> 86.352703 | E27: =D27*30.2/100 -> 26.078516 | F27: =прил.3!I27 -> 0 | G27: =прил.4!F27 -> 0 | H27: =C27*SUM(D27:G27) -> 318.18035 | I27: =прил.9!C115 -> 0.76646072 | J27: =H27*I27 -> 243.87274 | K27: =H27+J27 -> 562.0531
A28: 1.1.13. | B28: Содействие в направлении в стационарную организацию социального обслуживания | C28: 0.67 | D28: =прил.2!I28 -> 86.352703 | E28: =D28*30.2/100 -> 26.078516 | F28: =прил.3!I28 -> 0 | G28: =прил.4!F28 -> 0 | H28: =C28*SUM(D28:G28) -> 75.328917 | I28: =прил.9!C115 -> 0.76646072 | J28: =H28*I28 -> 57.736657 | K28: =H28+J28 -> 133.06557
A29: 1.1.14. | B29: Содействие в посещении культурных мероприятий | C29: 0.33 | D29: =прил.2!I29 -> 86.352703 | E29: =D29*30.2/100 -> 26.078516 | F29: =прил.3!I29 -> 0 | G29: =прил.4!F29 -> 0 | H29: =C29*SUM(D29:G29) -> 37.102303 | I29: =прил.9!C115 -> 0.76646072 | J29: =H29*I29 -> 28.437458 | K29: =H29+J29 -> 65.53976
A30: 1.1.15. | B30: Оказание гигиенических услуг получателям социальных услуг, не способным по состоянию здоровья самостоятельно осуществлять за собой уход:
A31: 1.1.15.1. | B31: Умывание | C31: 0.07 | D31: =прил.2!I31 -> 0 | E31: =D31*30.2/100 -> 0 | F31: =прил.3!I31 -> 0 | G31: =прил.4!F31 -> 0 | H31: =C31*SUM(D31:G31) -> 0 | I31: =прил.9!C115 -> 0.76646072 | J31: =H31*I31 -> 0 | K31: =H31+J31 -> 0
A32: 1.1.15.2. | B32: Обтирание и (или) обмывание | C32: 0.15 | D32: =прил.2!I32 -> 0 | E32: =D32*30.2/100 -> 0 | F32: =прил.3!I32 -> 0 | G32: =прил.4!F32 -> 0 | H32: =C32*SUM(D32:G32) -> 0 | I32: =прил.9!C115 -> 0.76646072 | J32: =H32*I32 -> 0 | K32: =H32+J32 -> 0
A33: 1.1.15.3. | B33: Причесывание волос | C33: 0.08 | D33: =прил.2!I33 -> 0 | E33: =D33*30.2/100 -> 0 | F33: =прил.3!I33 -> 0 | G33: =прил.4!F33 -> 0 | H33: =C33*SUM(D33:G33) -> 0 | I33: =прил.9!C115 -> 0.76646072 | J33: =H33*I33 -> 0 | K33: =H33+J33 -> 0
A34: 1.1.15.4. | B34: Подравнивание волос | C34: 0.15 | D34: =прил.2!I34 -> 0 | E34: =D34*30.2/100 -> 0 | F34: =прил.3!I34 -> 0 | G34: =прил.4!F34 -> 0 | H34: =C34*SUM(D34:G34) -> 0 | I34: =прил.9!C115 -> 0.76646072 | J34: =H34*I34 -> 0 | K34: =H34+J34 -> 0
A35: 1.1.15.5. | B35: Стрижка ногтей на руках | C35: 0.12 | D35: =прил.2!I35 -> 0 | E35: =D35*30.2/100 -> 0 | F35: =прил.3!I35 -> 0 | G35: =прил.4!F35 -> 0 | H35: =C35*SUM(D35:G35) -> 0 | I35: =прил.9!C115 -> 0.76646072 | J35: =H35*I35 -> 0 | K35: =H35+J35 -> 0
A36: 1.1.15.6. | B36: Бритье бороды и (или) усов | C36: 0.1 | D36: =прил.2!I36 -> 0 | E36: =D36*30.2/100 -> 0 | F36: =прил.3!I36 -> 0 | G36: =прил.4!F36 -> 0 | H36: =C36*SUM(D36:G36) -> 0 | I36: =прил.9!C115 -> 0.76646072 | J36: =H36*I36 -> 0 | K36: =H36+J36 -> 0
A37: 1.1.15.7. | B37: Оказание помощи в смене нательного белья | C37: 0.15 | D37: =прил.2!I37 -> 0 | E37: =D37*30.2/100 -> 0 | F37: =прил.3!I37 -> 0 | G37: =прил.4!F37 -> 0 | H37: =C37*SUM(D37:G37) -> 0 | I37: =прил.9!C115 -> 0.76646072 | J37: =H37*I37 -> 0 | K37: =H37+J37 -> 0
A38: 1.1.15.8. | B38: Оказание помощи в смене постельного белья | C38: 0.18 | D38: =прил.2!I38 -> 0 | E38: =D38*30.2/100 -> 0 | F38: =прил.3!I38 -> 0 | G38: =прил.4!F38 -> 0 | H38: =C38*SUM(D38:G38) -> 0 | I38: =прил.9!C115 -> 0.76646072 | J38: =H38*I38 -> 0 | K38: =H38+J38 -> 0
A39: 1.1.15.9. | B39: Оказание помощи при вставании с постели, укладывании в постель | C39: 0.1 | D39: =прил.2!I39 -> 0 | E39: =D39*30.2/100 -> 0 | F39: =прил.3!I39 -> 0 | G39: =прил.4!F39 -> 0 | H39: =C39*SUM(D39:G39) -> 0 | I39: =прил.9!C115 -> 0.76646072 | J39: =H39*I39 -> 0 | K39: =H39+J39 -> 0
A40: 1.1.15.10. | B40: Оказание помощи при одевании и (или) раздевании | C40: 0.15 | D40: =прил.2!I40 -> 0 | E40: =D40*30.2/100 -> 0 | F40: =прил.3!I40 -> 0 | G40: =прил.4!F40 -> 0 | H40: =C40*SUM(D40:G40) -> 0 | I40: =прил.9!C115 -> 0.76646072 | J40: =H40*I40 -> 0 | K40: =H40+J40 -> 0
A41: 1.1.15.11. | B41: Оказание помощи в помывке в бане общего пользования | C41: 1 | D41: =прил.2!I41 -> 0 | E41: =D41*30.2/100 -> 0 | F41: =прил.3!I41 -> 0 | G41: =прил.4!F41 -> 0 | H41: =C41*SUM(D41:G41) -> 0 | I41: =прил.9!C115 -> 0.76646072 | J41: =H41*I41 -> 0 | K41: =H41+J41 -> 0
A42: 1.1.15.12. | B42: Оказание помощи в помывке в ванне, душе, бане | C42: 0.45 | D42: =прил.2!I42 -> 0 | E42: =D42*30.2/100 -> 0 | F42: =прил.3!I42 -> 0 | G42: =прил.4!F42 -> 0 | H42: =C42*SUM(D42:G42) -> 0 | I42: =прил.9!C115 -> 0.76646072 | J42: =H42*I42 -> 0 | K42: =H42+J42 -> 0
...

Sheet прил.2
A2: Расчет часового фонда оплаты труда персонала, оказывающего социальную услугу за 2024 год
A4: Форму (таблицу) не сбиваем, строки не удаляем и не добавляем! Меняем (если необходимо) данные в ячейках (сами ячейки не удалять и новые не добавлять). По каждой услуге заполняем данные, должности меняем в соответствии с вашим штатным расписанием, должности (если их несколько) прописываем через запятую, заработную плату по ним ставим среднюю через формулу (например Должностной оклад=(12188+9761)/2)) | J4: СПРАВОЧНО: норма рабочего времени в 2024 году 40-часовая рабочая неделя - 1979 часов в год, 39-часовая рабочая неделя - 1929,4 часов в год, 36-часовая рабочая неделя - 1780,6 часов в год, 35-часовая рабочая неделя - 1731 часов в год, 33- часовая рабочая неделя - 1631,8 часов в год, 30-часовая рабочая неделя - 1483 часов в год
A5: № | B5: Наименование услуги | C5: Должность персонала, оказывающего услугу | D5: Должностной оклад (руб./мес.) | E5: Стимулирующие и компенсационные выплаты (руб./мес.) | F5: Фонд заработной платы (руб./мес) гр. 6 = гр.4+гр.5 | G5: Годовой фонд оплаты труда (руб.) гр. 7 = гр.6 x 12 | H5: Годовой фонд рабочего времени, согласно производственному календарю (час.) | I5: Часовой фонд оплаты труда персонала, оказывающего услугу (Ч) (руб.) гр.9 =гр.7/гр.8
A6: 1 | B6: 2 | C6: 3 | D6: 4 | E6: 5 | F6: 6 | G6: 7 | H6: 8 | I6: 9
A7: 1 | B7: Социальные услуги, предоставляемые в форме социального обслуживания на дому (городская местность) | C7: Х | D7: Х | E7: Х | F7: Х | G7: Х | H7: Х | I7: Х
A8: 1.1. | B8: Социально-бытовые услуги: | C8: Х | D8: Х | E8: Х | F8: Х | G8: Х | H8: Х | I8: Х
A9: 1.1.1. | B9: Покупка за счет средств получателя социальных услуг и доставка на дом продуктов питания, горячих обедов | C9: социальный работник | D9: 14241 | F9: =D9+E9 -> 14241 | G9: =F9*12 -> 170892 | H9: 1979 | I9: =G9/H9 -> 86.352703
A10: 1.1.1.1 | B10: Покупка за счет средств получателя социальных услуг и доставка на дом промышленных товаров первой необходимости | C10: социальный работник | D10: 14241 | F10: =D10+E10 -> 14241 | G10: =F10*12 -> 170892 | H10: 1979 | I10: =G10/H10 -> 86.352703
A11: 1.1.1.2 | B11: Покупка за счет средств получателя социальных услуг и доставка на дом средств санитарии и гигиены, средств ухода | C11: социальный работник | D11: 14241 | F11: =D11+E11 -> 14241 | G11: =F11*12 -> 170892 | H11: 1979 | I11: =G11/H11 -> 86.352703
A12: 1.1.1.3 | B12: Покупка за счет средств получателя социальных услуг и доставка на дом книг, газет, журналов | C12: социальный работник | D12: 14241 | F12: =D12+E12 -> 14241 | G12: =F12*12 -> 170892 | H12: 1979 | I12: =G12/H12 -> 86.352703
A13: 1.1.2. | B13: Помощь в приготовлении пищи из продуктов питания получателя социальных услуг | C13: социальный работник | D13: 14241 | F13: =D13+E13 -> 14241 | G13: =F13*12 -> 170892 | H13: 1979 | I13: =G13/H13 -> 86.352703
A14: 1.1.3. | B14: Помощь в приеме пищи | C14: социальный работник | D14: 14241 | F14: =D14+E14 -> 14241 | G14: =F14*12 -> 170892 | H14: 1979 | I14: =G14/H14 -> 86.352703
A15: 1.1.4. | B15: Содействие в обеспечении за счет средств получателя социальных услуг твердым топливом | C15: социальный работник | D15: 14241 | F15: =D15+E15 -> 14241 | G15: =F15*12 -> 170892 | H15: 1979 | I15: =G15/H15 -> 86.352703
A16: 1.1.4.1. | B16: Топка печей при наличии печного отопления | C16: социальный работник | D16: 14241 | F16: =D16+E16 -> 14241 | G16: =F16*12 -> 170892 | H16: 1979 | I16: =G16/H16 -> 86.352703
A17: 1.1.4.2. | B17: Доставка топлива от места хранения к печи | C17: социальный работник | D17: 14241 | F17: =D17+E17 -> 14241 | G17: =F17*12 -> 170892 | H17: 1979 | I17: =G17/H17 -> 86.352703
A18: 1.1.4.3. | B18: Доставка воды при отсутствии центрального водоснабжения | C18: социальный работник | D18: 14241 | F18: =D18+E18 -> 14241 | G18: =F18*12 -> 170892 | H18: 1979 | I18: =G18/H18 -> 86.352703
A19: 1.1.5. | B19: Содействие в организации ремонта жилых помещений | C19: социальный работник | D19: 14241 | F19: =D19+E19 -> 14241 | G19: =F19*12 -> 170892 | H19: 1979 | I19: =G19/H19 -> 86.352703
A20: 1.1.6. | B20: Содействие в организации уборки жилых помещений за счет средств получателя социальных услуг, в том числе с привлечением иных лиц, служб | C20: социальный работник | D20: 14241 | F20: =D20+E20 -> 14241 | G20: =F20*12 -> 170892 | H20: 1979 | I20: =G20/H20 -> 86.352703
... A29: 1.1.14. | B29: Содействие в посещении культурных мероприятий | C29: социальный работник | D29: 14241 | F29: =D29+E29 -> 14241 | G29: =F29*12 -> 170892 | H29: 1979 | I29: =G29/H29 -> 86.352703
A30: 1.1.15. | B30: Оказание гигиенических услуг получателям социальных услуг, не способным по состоянию здоровья самостоятельно осуществлять за собой уход: | C30: Х | D30: Х | E30: Х | F30: Х | G30: Х | H30: Х | I30: Х
A31: 1.1.15.1. | B31: Умывание | C31: социальный работник | F31: =D31+E31 -> 0 | G31: =F31*12 -> 0 | H31: 1979 | I31: =G31/H31 -> 0
A32: 1.1.15.2. | B32: Обтирание и (или) обмывание | C32: социальный работник | F32: =D32+E32 -> 0 | G32: =F32*12 -> 0 | H32: 1979 | I32: =G32/H32 -> 0
A33: 1.1.15.3. | B33: Причесывание волос | C33: социальный работник | F33: =D33+E33 -> 0 | G33: =F33*12 -> 0 | H33: 1979 | I33: =G33/H33 -> 0
A34: 1.1.15.4. | B34: Подравнивание волос | C34: социальный работник | F34: =D34+E34 -> 0 | G34: =F34*12 -> 0 | H34: 1979 | I34: =G34/H34 -> 0
A35: 1.1.15.5. | B35: Стрижка ногтей на руках | C35: социальный работник | F35: =D35+E35 -> 0 | G35: =F35*12 -> 0 | H35: 1979 | I35: =G35/H35 -> 0
A36: 1.1.15.6. | B36: Бритье бороды и (или) усов | C36: социальный работник | F36: =D36+E36 -> 0 | G36: =F36*12 -> 0 | H36: 1979 | I36: =G36/H36 -> 0
A37: 1.1.15.7. | B37: Оказание помощи в смене нательного белья | C37: социальный работник | F37: =D37+E37 -> 0 | G37: =F37*12 -> 0 | H37: 1979 | I37: =G37/H37 -> 0
A38: 1.1.15.8. | B38: Оказание помощи в смене постельного белья | C38: социальный работник | F38: =D38+E38 -> 0 | G38: =F38*12 -> 0 | H38: 1979 | I38: =G38/H38 -> 0
A39: 1.1.15.9. | B39: Оказание помощи при вставании с постели, укладывании в постель | C39: социальный работник | F39: =D39+E39 -> 0 | G39: =F39*12 -> 0 | H39: 1979 | I39: =G39/H39 -> 0
A40: 1.1.15.10. | B40: Оказание помощи при одевании и (или) раздевании | C40: социальный работник | F40: =D40+E40 -> 0 | G40: =F40*12 -> 0 | H40: 1979 | I40: =G40/H40 -> 0
A41: 1.1.15.11. | B41: Оказание помощи в помывке в бане общего пользования | C41: социальный работник | F41: =D41+E41 -> 0 | G41: =F41*12 -> 0 | H41: 1979 | I41: =G41/H41 -> 0
A42: 1.1.15.12. | B42: Оказание помощи в помывке в ванне, душе, бане | C42: социальный работник | F42: =D42+E42 -> 0 | G42: =F42*12 -> 0 | H42: 1979 | I42: =G42/H42 -> 0
... A48: 1.1.16. | B48: Помощь в передвижении по дому | C48: социальный работник | F48: =D48+E48 -> 0 | G48: =F48*12 -> 0 | H48: 1979 | I48: =G48/H48 -> 0
A49: 1.1.17. | B49: Предоставление транспорта для перевозки получателя социальных услуг в медицинскую организацию | C49: водитель автомобиля | D49: 10738 | F49: =D49+E49 -> 10738 | G49: =F49*12 -> 128856 | H49: 1979 | I49: =G49/H49 -> 65.111673 | J49: обратите внимание!!! Здесь водитель автомобиля
A50: 1.2. | B50: Социально-медицинские услуги: | C50: Х | D50: Х | E50: Х | F50: Х | G50: Х | H50: Х | I50: Х
A51: 1.2.1. | B51: Содействие в оказании медицинской помощи, в том числе стоматологической помощи: | C51: Х | D51: Х | E51: Х | F51: Х | G51: Х | H51: Х | I51: Х
A52: 1.2.1.2. | B52: Сопровождение получателя социальных услуг в медицинскую организацию, расположенную по месту жительства получателя социальных услуг, и обратно | C52: социальный работник | F52: =D52+E52 -> 0 | G52: =F52*12 -> 0 | H52: 1979 | I52: =G52/H52 -> 0
A53: 1.2.1.3. | B53: Посещение получателя социальных услуг в медицинской организации в случае его госпитализации | C53: социальный работник | F53: =D53+E53 -> 0 | G53: =F53*12 -> 0 | H53: 1979 | I53: =G53/H53 -> 0
A54: 1.2.1.4. | B54: Содействие в получении стоматологической, в том числе зубопротезной, помощи | C54: социальный работник | F54: =D54+E54 -> 0 | G54: =F54*12 -> 0 | H54: 1979 | I54: =G54/H54 -> 0
A55: 1.2.1.5. | B55: Взятие образца биологического материала для лабораторного исследования по назначению врача | C55: социальный работник | F55: =D55+E55 -> 0 | G55: =F55*12 -> 0 | H55: 1979 | I55: =G55/H55 -> 0
...

Sheet прил.3
B2: РАСЧЕТ материальных затрат на один час оплаты труда персонала, оказывающего социальную услугу
B3: Заполняем обязательно материальные затраты для оказания услуг
A4: № | B4: Наименование услуги | C4: Наименование материальных затрат | D4: Количество материальных затрат | E4: Единица измерения | F4: Цена за единицу (руб.) | G4: Стоимость материальных затрат(руб.) | H4: Годовой фонд рабочего времени, согласно производственному календарю (час.) | I4: Материальные затраты (МЗ ) в расчете на один час оплаты труда персонала, оказывающего социальную услугу (руб.)
G5: гр. 7 =гр. 4 x гр.6 | I5: гр.9=гр.7/гр.8
A6: 1 | B6: 2 | C6: 3 | D6: 4 | E6: 5 | F6: 6 | G6: 7 | H6: 8 | I6: 9
A7: 1 | B7: Социальные услуги, предоставляемые в форме социального обслуживания на дому (городская местность)
A8: 1.1. | B8: Социально-бытовые услуги:
A9: 1.1.1. | B9: Покупка за счет средств получателя социальных услуг и доставка на дом продуктов питания, горячих обедов | H9: 1979 | I9: =G9/H9 -> 0
A10: 1.1.1.1 | B10: Покупка за счет средств получателя социальных услуг и доставка на дом промышленных товаров первой необходимости | H10: 1979 | I10: =G10/H10 -> 0
A11: 1.1.1.2 | B11: Покупка за счет средств получателя социальных услуг и доставка на дом средств санитарии и гигиены, средств ухода | H11: 1979 | I11: =G11/H11 -> 0
A12: 1.1.1.3 | B12: Покупка за счет средств получателя социальных услуг и доставка на дом книг, газет, журналов | H12: 1979 | I12: =G12/H12 -> 0
A13: 1.1.2. | B13: Помощь в приготовлении пищи из продуктов питания получателя социальных услуг | H13: 1979 | I13: =G13/H13 -> 0
A14: 1.1.3. | B14: Помощь в приеме пищи | H14: 1979 | I14: =G14/H14 -> 0
A15: 1.1.4. | B15: Содействие в обеспечении за счет средств получателя социальных услуг твердым топливом | H15: 1979 | I15: =G15/H15 -> 0
A16: 1.1.4.1. | B16: Топка печей при наличии печного отопления | H16: 1979 | I16: =G16/H16 -> 0
A17: 1.1.4.2. | B17: Доставка топлива от места хранения к печи | H17: 1979 | I17: =G17/H17 -> 0
A18: 1.1.4.3. | B18: Доставка воды при отсутствии центрального водоснабжения | H18: 1979 | I18: =G18/H18 -> 0
A19: 1.1.5. | B19: Содействие в организации ремонта жилых помещений | H19: 1979 | I19: =G19/H19 -> 0
A20: 1.1.6. | B20: Содействие в организации уборки жилых помещений за счет средств получателя социальных услуг, в том числе с привлечением иных лиц, служб | H20: 1979 | I20: =G20/H20 -> 0
... A25: 1.1.10. | B25: Содействие в предоставлении услуг почтовой связи за счет средств получателя социальных услуг | H25: 1979 | I25: =G25/H25 -> 0
A26: 1.1.11. | B26: Сопровождение получателя социальных услуг на прогулке | H26: 1979 | I26: =G26/H26 -> 0 | K26: и т.д
A27: 1.1.12. | B27: Содействие в организации ритуальных услуг | H27: 1979
A28: 1.1.13. | B28: Содействие в направлении в стационарную организацию социального обслуживания | H28: 1979
A29: 1.1.14. | B29: Содействие в посещении культурных мероприятий | H29: 1979
A30: 1.1.15. | B30: Оказание гигиенических услуг получателям социальных услуг, не способным по состоянию здоровья самостоятельно осуществлять за собой уход: | H30: Х
A31: 1.1.15.1. | B31: Умывание | H31: 1979
A32: 1.1.15.2. | B32: Обтирание и (или) обмывание | H32: 1979
A33: 1.1.15.3. | B33: Причесывание волос | H33: 1979
A34: 1.1.15.4. | B34: Подравнивание волос | H34: 1979
A35: 1.1.15.5. | B35: Стрижка ногтей на руках | H35: 1979
A36: 1.1.15.6. | B36: Бритье бороды и (или) усов | H36: 1979
A37: 1.1.15.7. | B37: Оказание помощи в смене нательного белья | H37: 1979
A38: 1.1.15.8. | B38: Оказание помощи в смене постельного белья | H38: 1979
A39: 1.1.15.9. | B39: Оказание помощи при вставании с постели, укладывании в постель | H39: 1979
A40: 1.1.15.10. | B40: Оказание помощи при одевании и (или) раздевании | H40: 1979
A41: 1.1.15.11. | B41: Оказание помощи в помывке в бане общего пользования | H41: 1979
A42: 1.1.15.12. | B42: Оказание помощи в помывке в ванне, душе, бане | H42: 1979
... A48: 1.1.16. | B48: Помощь в передвижении по дому | H48: 1979
A49: 1.1.17. | B49: Предоставление транспорта для перевозки получателя социальных услуг в медицинскую организацию | C49: ГСМ, ТО, ремонт авто и т.п. | H49: 1979 | I49: =G49/H49 -> 0 | K49: расходы только на услуги надомного обслуживания
A50: 1.2. | B50: Социально-медицинские услуги: | H50: Х
...

Sheet прил.4
A2: РАСЧЕТ
A3: прочих прямых затрат на один час оплаты труда персонала, оказывающего социальную услугу
A4: № п/п | B4: Наименование услуги | C4: Наименование прочих прямых затрат | D4: Стоимость прочих прямых затрат (руб.) | E4: Годовой фонд рабочего времени,согласно производственному календарю (час.) | F4: Прочие затраты (ПП) в расчете на один час оплаты труда персонала, оказывающего социальную услугу (руб)
F5: гр.6=гр.4/гр.5
A6: 1 | B6: 2 | C6: 3 | D6: 4 | E6: 5 | F6: 6
A7: 1 | B7: Социальные услуги, предоставляемые в форме социального обслуживания на дому (городская местность)
A8: 1.1. | B8: Социально-бытовые услуги:
A9: 1.1.1. | B9: Покупка за счет средств получателя социальных услуг и доставка на дом продуктов питания, горячих обедов | C9: спецодежда, обувь, инвентарь | D9: =K16 -> 0 | E9: 1979 | F9: =D9/E9 -> 0 | G9: Наименование материальных затрат | H9: Количество материальных затрат | I9: Единица измерения | J9: Цена за единицу (руб.) | K9: Стоимость материальных затрат(руб.)
A10: 1.1.1.1 | B10: Покупка за счет средств получателя социальных услуг и доставка на дом промышленных товаров первой необходимости | C10: спецодежда, обувь, инвентарь | D10: =K16 -> 0 | E10: 1979 | F10: =D10/E10 -> 0 | K10: гр. 7 =гр. 4 x гр.6
A11: 1.1.1.2 | B11: Покупка за счет средств получателя социальных услуг и доставка на дом средств санитарии и гигиены, средств ухода | C11: спецодежда, обувь, инвентарь | D11: =K16 -> 0 | E11: 1979 | F11: =D11/E11 -> 0 | G11: обувь комнатная | H11: 1 | I11: пара | K11: =H11*J11 -> 0
A12: 1.1.1.3 | B12: Покупка за счет средств получателя социальных услуг и доставка на дом книг, газет, журналов | C12: спецодежда, обувь, инвентарь | D12: =K16 -> 0 | E12: 1979 | F12: =D12/E12 -> 0 | G12: перчатки (варежки) рабочие | H12: 1 | I12: пара | K12: =H12*J12 -> 0
A13: 1.1.2. | B13: Помощь в приготовлении пищи из продуктов питания получателя социальных услуг | C13: спецодежда, обувь, инвентарь | D13: =K16 -> 0 | E13: 1979 | F13: =D13/E13 -> 0 | G13: сумка-коляска | H13: 1 | I13: шт | K13: =H13*J13 -> 0
A14: 1.1.3. | B14: Помощь в приеме пищи | C14: спецодежда, обувь, инвентарь | D14: =K16 -> 0 | E14: 1979 | F14: =D14/E14 -> 0 | G14: сумка хозяйственная | H14: 1 | I14: шт | K14: =H14*J14 -> 0
A15: 1.1.4. | B15: Содействие в обеспечении за счет средств получателя социальных услуг твердым топливом | C15: спецодежда, обувь, инвентарь | D15: =K16 -> 0 | E15: 1979 | F15: =D15/E15 -> 0 | G15: полотенце | H15: 2 | I15: шт | K15: =H15*J15 -> 0
A16: 1.1.4.1. | B16: Топка печей при наличии печного отопления | C16: спецодежда, обувь, инвентарь | D16: =K16 -> 0 | E16: 1979 | F16: =D16/E16 -> 0 | G16: сумма | K16: =SUM(K11:K15) -> 0
A17: 1.1.4.2. | B17: Доставка топлива от места хранения к печи | C17: спецодежда, обувь, инвентарь | D17: =K16 -> 0 | E17: 1979 | F17: =D17/E17 -> 0
A18: 1.1.4.3. | B18: Доставка воды при отсутствии центрального водоснабжения | C18: спецодежда, обувь, инвентарь | D18: =K16 -> 0 | E18: 1979 | F18: =D18/E18 -> 0
A19: 1.1.5. | B19: Содействие в организации ремонта жилых помещений | C19: спецодежда, обувь, инвентарь | D19: =K16 -> 0 | E19: 1979 | F19: =D19/E19 -> 0
A20: 1.1.6. | B20: Содействие в организации уборки жилых помещений за счет средств получателя социальных услуг, в том числе с привлечением иных лиц, служб | C20: спецодежда, обувь, инвентарь | D20: =K16 -> 0 | E20: 1979 | F20: =D20/E20 -> 0
A21: 1.1.6.1 | B21: Уборка жилых помещений | C21: спецодежда, обувь, инвентарь | D21: =K16 -> 0 | E21: 1979 | F21: =D21/E21 -> 0
A22: 1.1.7. | B22: Сдача за счет средств получателя социальных услуг вещей в стирку, химчистку, ремонт, получение их и доставка получателю социальных услуг | C22: спецодежда, обувь, инвентарь | D22: =K16 -> 0 | E22: 1979 | F22: =D22/E22 -> 0
A23: 1.1.8. | B23: Содействие в оплате за счет средств получателя социальных услуг жилого помещения, коммунальных услуг и услуг связи | C23: спецодежда, обувь, инвентарь | D23: =K16 -> 0 | E23: 1979 | F23: =D23/E23 -> 0
A24: 1.1.9. | B24: Оказание помощи в написании и прочтении писем и другой корреспонденции | C24: спецодежда, обувь, инвентарь | D24: =K16 -> 0 | E24: 1979 | F24: =D24/E24 -> 0
A25: 1.1.10. | B25: Содействие в предоставлении услуг почтовой связи за счет средств получателя социальных услуг | C25: спецодежда, обувь, инвентарь | D25: =K16 -> 0 | E25: 1979 | F25: =D25/E25 -> 0
A26: 1.1.11. | B26: Сопровождение получателя социальных услуг на прогулке | C26: спецодежда, обувь, инвентарь | D26: =K16 -> 0 | E26: 1979 | F26: =D26/E26 -> 0
A27: 1.1.12. | B27: Содействие в организации ритуальных услуг | C27: спецодежда, обувь, инвентарь | D27: =K16 -> 0 | E27: 1979 | F27: =D27/E27 -> 0
A28: 1.1.13. | B28: Содействие в направлении в стационарную организацию социального обслуживания | C28: спецодежда, обувь, инвентарь | D28: =K16 -> 0 | E28: 1979 | F28: =D28/E28 -> 0
A29: 1.1.14. | B29: Содействие в посещении культурных мероприятий | C29: спецодежда, обувь, инвентарь | D29: =K16 -> 0 | E29: 1979 | F29: =D29/E29 -> 0
A30: 1.1.15. | B30: Оказание гигиенических услуг получателям социальных услуг, не способным по состоянию здоровья самостоятельно осуществлять за собой уход: | E30: Х
A31: 1.1.15.1. | B31: Умывание | C31: спецодежда, обувь, инвентарь | D31: =K16 -> 0 | E31: 1979 | F31: =D31/E31 -> 0
A32: 1.1.15.2. | B32: Обтирание и (или) обмывание | C32: спецодежда, обувь, инвентарь | D32: =K16 -> 0 | E32: 1979 | F32: =D32/E32 -> 0
A33: 1.1.15.3. | B33: Причесывание волос | C33: спецодежда, обувь, инвентарь | D33: =K16 -> 0 | E33: 1979 | F33: =D33/E33 -> 0
A34: 1.1.15.4. | B34: Подравнивание волос | C34: спецодежда, обувь, инвентарь | D34: =K16 -> 0 | E34: 1979 | F34: =D34/E34 -> 0
A35: 1.1.15.5. | B35: Стрижка ногтей на руках | C35: спецодежда, обувь, инвентарь | D35: =K16 -> 0 | E35: 1979 | F35: =D35/E35 -> 0
A36: 1.1.15.6. | B36: Бритье бороды и (или) усов | C36: спецодежда, обувь, инвентарь | D36: =K16 -> 0 | E36: 1979 | F36: =D36/E36 -> 0
A37: 1.1.15.7. | B37: Оказание помощи в смене нательного белья | C37: спецодежда, обувь, инвентарь | D37: =K16 -> 0 | E37: 1979 | F37: =D37/E37 -> 0
A38: 1.1.15.8. | B38: Оказание помощи в смене постельного белья | C38: спецодежда, обувь, инвентарь | D38: =K16 -> 0 | E38: 1979 | F38: =D38/E38 -> 0
A39: 1.1.15.9. | B39: Оказание помощи при вставании с постели, укладывании в постель | C39: спецодежда, обувь, инвентарь | D39: =K16 -> 0 | E39: 1979 | F39: =D39/E39 -> 0
A40: 1.1.15.10. | B40: Оказание помощи при одевании и (или) раздевании | C40: спецодежда, обувь, инвентарь | D40: =K16 -> 0 | E40: 1979 | F40: =D40/E40 -> 0
A41: 1.1.15.11. | B41: Оказание помощи в помывке в бане общего пользования | C41: спецодежда, обувь, инвентарь | D41: =K16 -> 0 | E41: 1979 | F41: =D41/E41 -> 0
...

Sheet прил.5
A2: Расчет подушевых нормативов финансирования социальных услуг, предоставляемых поставщиками социальных услуг на территории Кировской области
C4: здесь можно удалить формулы внутри ячеек, если они не нужны
A5: № | B5: Наименование услуги | C5: Фонд заработной платы на 1 койко-место (1 человека) (руб./день) из приложения 6 | D5: Социальные отчисления на фонд заработной платы работника, оказывающего услугу (руб./день) | E5: Материальные затраты на 1 (койко-место) человека (руб./день) из приложения 7 | F5: Прочие прямые затраты на 1 койко-место (руб./день) из приложения 8 | G5: Всего прямые расходы на 1 койко-место (руб./день) | H5: Коэффициент косвенных расходов из приложения 9 | I5: Косвенные расходы на 1 койко место (руб./день) гр.9=гр.7 х гр. 8 | J5: Подушевой норматив финансирования на 1 койко-место (руб./день) гр.10=гр.7+ гр.9 в приложение 1 графа 11
G6: гр.7=гр.3 + гр.4+гр.5+ гр.6
A7: 1 | B7: 2 | C7: 3 | D7: 4 | E7: 5 | F7: 6 | G7: 7 | H7: 8 | I7: 9 | J7: 10
A8: 2.1.1. | B8: Предоставление помещений для организации социально-реабилитационных и социокультурных мероприятий | C8: =прил.6!H8 -> #DIV/0! | D8: =C8*0.302 -> #DIV/0! | E8: =прил.7!I6 -> #DIV/0! | F8: =прил.8!F9 -> #DIV/0! | G8: =C8+D8+E8+F8 -> #DIV/0! | H8: =прил.9!C115 -> 0.76646072 | I8: =G8*H8 -> #DIV/0! | J8: =G8+I8 -> #DIV/0!
A9: 2.1.2. | B9: Обеспечение питанием согласно утвержденным нормативам | C9: =прил.6!H9 -> #DIV/0! | D9: =C9*0.302 -> #DIV/0! | E9: =прил.7!I7 -> #DIV/0! | F9: =прил.8!F10 -> #DIV/0! | G9: =C9+D9+E9+F9 -> #DIV/0! | H9: =прил.9!C115 -> 0.76646072 | I9: =G9*H9 -> #DIV/0! | J9: =G9+I9 -> #DIV/0!
A10: 2.1.3. | B10: Предоставление в пользование мебели согласно утвержденным нормативам | C10: =прил.6!H10 -> #DIV/0! | D10: =C10*0.302 -> #DIV/0! | E10: =прил.7!I8 -> #DIV/0! | F10: =прил.8!F11 -> #DIV/0! | G10: =C10+D10+E10+F10 -> #DIV/0! | H10: =прил.9!C115 -> 0.76646072 | I10: =G10*H10 -> #DIV/0! | J10: =G10+I10 -> #DIV/0!
A11: 2.1.4. | B11: Обеспечение книгами, журналами, газетами, настольными играми, иным инвентарем для организации досуга | C11: =прил.6!H11 -> #DIV/0! | D11: =C11*0.302 -> #DIV/0! | E11: =прил.7!I9 -> #DIV/0! | F11: =прил.8!F12 -> #DIV/0! | G11: =C11+D11+E11+F11 -> #DIV/0! | H11: =прил.9!C115 -> 0.76646072 | I11: =G11*H11 -> #DIV/0! | J11: =G11+I11 -> #DIV/0!
A12: 2.1.5. | B12: Предоставление постельных принадлежностей, спального места в специальном помещении | C12: =прил.6!H12 -> #DIV/0! | D12: =C12*0.302 -> #DIV/0! | E12: =прил.7!I10 -> #DIV/0! | F12: =прил.8!F13 -> #DIV/0! | G12: =C12+D12+E12+F12 -> #DIV/0! | H12: =прил.9!C115 -> 0.76646072 | I12: =G12*H12 -> #DIV/0! | J12: =G12+I12 -> #DIV/0!
A13: 3.1.1. | B13: Предоставление жилых помещений, помещений для организации социально-реабилитационных и социокультурных мероприятий | C13: =прил.6!H13 -> 21.076588 | D13: =C13*0.302 -> 6.3651297 | E13: =прил.7!I11 -> 3.2602342 | F13: =прил.8!F14 -> 117.30775 | G13: =C13+D13+E13+F13 -> 148.0097 | H13: =прил.9!C115 -> 0.76646072 | I13: =G13*H13 -> 113.44362 | J13: =G13+I13 -> 261.45333
A14: 3.1.2. | B14: Обеспечение питанием согласно утвержденным нормативам: | C14: Х | D14: Х | E14: Х | F14: Х | G14: Х | H14: Х | I14: Х | J14: Х
A15: 3.1.2.(1) | B15: Обеспечение питанием согласно утвержденным нормативам (для совершеннолетних в стационарных организациях (отделениях) социального обслуживания ). | C15: =прил.6!H15 -> 2.0964208 | D15: =C15*0.302 -> 0.63311909 | E15: =прил.7!I13 -> 0 | F15: =прил.8!F16 -> 0 | G15: =C15+D15+E15+F15 -> 2.7295399 | H15: =прил.9!C115 -> 0.76646072 | I15: =G15*H15 -> 2.0920851 | J15: =G15+I15 -> 4.821625
A16: 3.1.2.(2) | B16: Обеспечение питанием согласно утвержденным нормативам (для несовершеннолетних в стационарных организациях (отделениях) социального обслуживания). | C16: =прил.6!H16 -> #DIV/0! | D16: =C16*0.302 -> #DIV/0! | E16: =прил.7!I14 -> #DIV/0! | F16: =прил.8!F17 -> #DIV/0! | G16: =C16+D16+E16+F16 -> #DIV/0! | H16: =прил.9!C115 -> 0.76646072 | I16: =G16*H16 -> #DIV/0! | J16: =G16+I16 -> #DIV/0!
A17: 3.1.2.(3) | B17: Обеспечение питанием согласно утвержденным нормативам (для несовершеннолетних с психическими заболеваниями в стационарных организациях (отделениях) социального обслуживания, для совершеннолетних с психическими заболеваниями в детском доме-интернате). | C17: =прил.6!H17 -> #DIV/0! | D17: =C17*0.302 -> #DIV/0! | E17: =прил.7!I15 -> #DIV/0! | F17: =прил.8!F18 -> #DIV/0! | G17: =C17+D17+E17+F17 -> #DIV/0! | H17: =прил.9!C115 -> 0.76646072 | I17: =G17*H17 -> #DIV/0! | J17: =G17+I17 -> #DIV/0!
A18: 3.1.2.(4) | B18: Обеспечение питанием согласно утвержденным нормативам (для совершеннолетних с психическими заболеваниями в стационарных организациях (отделениях) социального обслуживания). | C18: =прил.6!H18 -> #DIV/0! | D18: =C18*0.302 -> #DIV/0! | E18: =прил.7!I16 -> #DIV/0! | F18: =прил.8!F19 -> #DIV/0! | G18: =C18+D18+E18+F18 -> #DIV/0! | H18: =прил.9!C115 -> 0.76646072 | I18: =G18*H18 -> #DIV/0! | J18: =G18+I18 -> #DIV/0!
A19: 3.1.3. | B19: Предоставление в пользование мебели согласно утвержденным нормативам | C19: =прил.6!H19 -> 3.1615019 | D19: =C19*0.302 -> 0.95477358 | E19: =прил.7!I17 -> 11.206478 | F19: =прил.8!F20 -> 3.7848047 | G19: =C19+D19+E19+F19 -> 19.107558 | H19: =прил.9!C115 -> 0.76646072 | I19: =G19*H19 -> 14.645193 | J19: =G19+I19 -> 33.752751
A20: 3.1.4. | B20: Обеспечение книгами, журналами, газетами, настольными играми, иным инвентарем для организации досуга | C20: =прил.6!H20 -> 3.0961772 | D20: =C20*0.302 -> 0.93504553 | E20: =прил.7!I18 -> 0.17092556 | F20: =прил.8!F21 -> 0.034185112 | G20: =C20+D20+E20+F20 -> 4.2363335 | H20: =прил.9!C115 -> 0.76646072 | I20: =G20*H20 -> 3.2469832 | J20: =G20+I20 -> 7.4833167
A21: 3.1.5. | B21: Обеспечение мягким инвентарем (одеждой, обувью и постельными принадлежностями) согласно утвержденным нормативам | C21: =прил.6!H21 -> 3.4785066 | D21: =C21*0.302 -> 1.050509 | E21: =прил.7!I19 -> 9.0632425 | F21: =прил.8!F22 -> 3.7848047 | G21: =C21+D21+E21+F21 -> 17.377063 | H21: =прил.9!C115 -> 0.76646072 | I21: =G21*H21 -> 13.318836 | J21: =G21+I21 -> 30.695899

Sheet прил.6
A2: Расчет подушевых нормативов финансирования социальных услуг, предоставляемых поставщиками социальных услуг на территории Кировской области
C4: пишем свои должности по штатному | D4: оклад и стимулирующие за год (оклад*12 мес) | G4: здесь выполненное кол-во койко-дней за 2024 год
A5: № | B5: Наименование услуги | C5: Должности работников, оказывающих услугу | D5: Должностной оклад ( за предыдущий период) (берем за год) | E5: Стимулирующие и компенсационные выплаты (за предыдущий период, за год) | F5: Фонд заработной платы работников, оказывающих услугу (за предыдущий период)гр.6 = гр.4+ гр.5 | G5: Фактическое количество показателей, характеризующих объем, оказываемых государственных услуг (выполнения работ) за предыдущий период (койко-дни, человеко-дни) | H5: Фонд заработной платы работника, оказывающего услугу на 1 койко-место (человека) (руб./день) гр.8 = гр.6 / гр.7,
A7: 1 | B7: 2 | C7: 3 | D7: 4 | E7: 5 | F7: 6 | G7: 7 | H7: 8
A8: 2.1.1. | B8: Предоставление помещений для организации социально-реабилитационных и социокультурных мероприятий | C8: специалист по социальной работе | F8: =D8+E8 -> 0 | H8: =F8/G8 -> #DIV/0!
A9: 2.1.2. | B9: Обеспечение питанием согласно утвержденным нормативам | C9: буфетчик | F9: =D9+E9 -> 0 | H9: =F9/G9 -> #DIV/0!
A10: 2.1.3. | B10: Предоставление в пользование мебели согласно утвержденным нормативам | C10: специалист по социальной работе | F10: =D10+E10 -> 0 | H10: =F10/G10 -> #DIV/0!
A11: 2.1.4. | B11: Обеспечение книгами, журналами, газетами, настольными играми, иным инвентарем для организации досуга | C11: специалист по социальной работе, культорганизатор | F11: =D11+E11 -> 0 | H11: =F11/G11 -> #DIV/0!
A12: 2.1.5. | B12: Предоставление постельных принадлежностей, спального места в специальном помещении | C12: специалист по социальной работе | F12: =D12+E12 -> 0 | H12: =F12/G12 -> #DIV/0!
A13: 3.1.1. | B13: Предоставление жилых помещений, помещений для организации социально-реабилитационных и социокультурных мероприятий | C13: зав.отделением, зав.хоз., уборщик территорий, маляр,лифтер,слесарь-сантехник,электромонтер,уборщик помещений | D13: 987999 | E13: 1478172.6 | F13: =D13+E13 -> 2466171.6 | G13: 117010 | H13: =F13/G13 -> 21.076588
A14: 3.1.2. | B14: Обеспечение питанием согласно утвержденным нормативам: | C14: Х | D14: Х | E14: Х | F14: Х | G14: Х | H14: Х
A15: 3.1.2.(1) | B15: Обеспечение питанием согласно утвержденным нормативам (для совершеннолетних в стационарных организациях (отделениях) социального обслуживания ). | C15: буфетчик, повар, кухонный рабочий, мойщик посуды и т.д. | D15: 111501 | E15: 133801.2 | F15: =D15+E15 -> 245302.2 | G15: 117010 | H15: =F15/G15 -> 2.0964208
A16: 3.1.2.(2) | B16: Обеспечение питанием согласно утвержденным нормативам (для несовершеннолетних в стационарных организациях (отделениях) социального обслуживания). | C16: буфетчик, повар, кухонный рабочий, мойщик посуды и т.д. | F16: =D16+E16 -> 0 | H16: =F16/G16 -> #DIV/0!
A17: 3.1.2.(3) | B17: Обеспечение питанием согласно утвержденным нормативам (для несовершеннолетних с психическими заболеваниями в стационарных организациях (отделениях) социального обслуживания, для совершеннолетних с психическими заболеваниями в детском доме-интернате). | C17: буфетчик, повар, кухонный рабочий, мойщик посуды и т.д. | F17: =D17+E17 -> 0 | H17: =F17/G17 -> #DIV/0!
A18: 3.1.2.(4) | B18: Обеспечение питанием согласно утвержденным нормативам (для совершеннолетних с психическими заболеваниями в стационарных организациях (отделениях) социального обслуживания). | C18: буфетчик, повар, кухонный рабочий, мойщик посуды и т.д. | F18: =D18+E18 -> 0 | H18: =F18/G18 -> #DIV/0!
A19: 3.1.3. | B19: Предоставление в пользование мебели согласно утвержденным нормативам | C19: Кладовщик | D19: =9065*9+9972*3 -> 111501 | E19: =77505.75+28420.2+65268+9065+29916+48251.39 -> 258426.34 | F19: =D19+E19 -> 369927.34 | G19: 117010 | H19: =F19/G19 -> 3.1615019
A20: 3.1.4. | B20: Обеспечение книгами, журналами, газетами, настольными играми, иным инвентарем для организации досуга | C20: библиотекарь | D20: =10739*9+11813*3 -> 132090 | E20: =43492.95+15947.55+77320.8+10739+35439+47254.4 -> 230193.7 | F20: =D20+E20 -> 362283.7 | G20: 117010 | H20: =F20/G20 -> 3.0961772
A21: 3.1.5. | B21: Обеспечение мягким инвентарем (одеждой, обувью и постельными принадлежностями) согласно утвержденным нормативам | C21: кладовщик, сестра-хозяйка, специалист по закупкам | D21: =(10495+11010*11+111501+11156*9+12272*4)/3 -> 130866 | E21: =(7871.25+7871.25+8257.5*11+8257.5*11+49351.88+258426.34+8367*9+9204*4+11156*9+12272*4+61665.45)/3 -> 276154.06 | F21: =D21+E21 -> 407020.06 | G21: 117010 | H21: =F21/G21 -> 3.4785066

Sheet прил.7
A2: Расчет материальных затрат
A4: № | B4: Наименование услуги | C4: Наименование материальных затрат | D4: Количество материальных затрат | E4: Единица измерения | F4: Цена за единицу (руб.) | G4: Стоимость материальных затрат за предыдущий год гр.7=гр. 4 хгр.6 | H4: Фактическое количество показателей, характеризующих объем, оказываемых государственных услуг (выполнения работ) за предыдущий период (койко-дни, человеко-дни) | I4: Стоимость материальных затрат на 1 койко-место (человека) (руб./день) гр. 9 =гр. 7 / гр.8,
A5: 1 | B5: 2 | C5: 3 | D5: 4 | E5: 5 | F5: 6 | G5: 7 | H5: 8 | I5: 9
A6: 2.1.1. | B6: Предоставление помещений для организации социально-реабилитационных и социокультурных мероприятий | C6: коммунальные услуги | I6: =G6/H6 -> #DIV/0! | J6: часть расходов, которая приходится на данную услугу
A7: 2.1.2. | B7: Обеспечение питанием согласно утвержденным нормативам | C7: продукты питания, аутсорсинг | I7: =G7/H7 -> #DIV/0!
A8: 2.1.3. | B8: Предоставление в пользование мебели согласно утвержденным нормативам | C8: мебель | I8: =G8/H8 -> #DIV/0!
A9: 2.1.4. | B9: Обеспечение книгами, журналами, газетами, настольными играми, иным инвентарем для организации досуга | C9: книги, журналы, игры, подписка | I9: =G9/H9 -> #DIV/0!
A10: 2.1.5. | B10: Предоставление постельных принадлежностей, спального места в специальном помещении | C10: постельное белье, кровать | I10: =G10/H10 -> #DIV/0!
A11: 3.1.1. | B11: Предоставление жилых помещений, помещений для организации социально-реабилитационных и социокультурных мероприятий | C11: хозтовары | D11: 3609 | E11: ус.ед. | F11: 105.7 | G11: 381480 | H11: 117010 | I11: =G11/H11 -> 3.2602342 | J11: 381481/3609 щт.=105,70
A12: 3.1.2. | B12: Обеспечение питанием согласно утвержденным нормативам: | C12: Х | D12: Х | E12: Х | F12: Х | G12: Х | H12: Х | I12: Х | J12: справочно подпишите стоимость услуги питания на 2026 год, если есть данные
A13: 3.1.2.(1) | B13: Обеспечение питанием согласно утвержденным нормативам (для совершеннолетних в стационарных организациях (отделениях) социального обслуживания ). | C13: продукты питания, аутсорсинг | D13: 0 | E13: 0 | F13: 0 | G13: 0 | H13: 117010 | I13: =G13/H13 -> 0
A14: 3.1.2.(2) | B14: Обеспечение питанием согласно утвержденным нормативам (для несовершеннолетних в стационарных организациях (отделениях) социального обслуживания). | C14: продукты питания, аутсорсинг | I14: =G14/H14 -> #DIV/0!
A15: 3.1.2.(3) | B15: Обеспечение питанием согласно утвержденным нормативам (для несовершеннолетних с психическими заболеваниями в стационарных организациях (отделениях) социального обслуживания, для совершеннолетних с психическими заболеваниями в детском доме-интернате). | C15: продукты питания, аутсорсинг | I15: =G15/H15 -> #DIV/0!
A16: 3.1.2.(4) | B16: Обеспечение питанием согласно утвержденным нормативам (для совершеннолетних с психическими заболеваниями в стационарных организациях (отделениях) социального обслуживания). | C16: продукты питания, аутсорсинг | I16: =G16/H16 -> #DIV/0!
A17: 3.1.3. | B17: Предоставление в пользование мебели согласно утвержденным нормативам | C17: мебель | D17: 6195.17 | E17: ус.ед. | F17: 12341.18 | G17: 1311270 | H17: 117010 | I17: =G17/H17 -> 11.206478 | J17: мебель за 1шт.(5630,69+5470+1240,49)
A18: 3.1.4. | B18: Обеспечение книгами, журналами, газетами, настольными играми, иным инвентарем для организации досуга | C18: книги, журналы, игры, подписка | D18: 316 | E18: ус.ед. | F18: 63.29 | G18: 20000 | H18: 117010 | I18: =G18/H18 -> 0.17092556 | J18: Почта России (20000,00/316чел.=63,29
A19: 3.1.5. | B19: Обеспечение мягким инвентарем (одеждой, обувью и постельными принадлежностями) согласно утвержденным нормативам | C19: мягкий инвентарь | D19: 1687 | E19: ус.ед. | F19: 628.62 | G19: 1060490 | H19: 117010 | I19: =G19/H19 -> 9.0632425 | J19: 1060490/1687шт.=628,62

Sheet прил.8
A2: Расчет прочих прямых затрат
A4: № п/п | B4: Наименование услуги | C4: Наименование прочих прямых затрат | D4: Стоимость прочих прямых затрат (руб.) за предыдущий год | E4: Фактическое количество показателей, характеризующих объем, оказываемых государственных услуг (выполнения работ) за предыдущий период (койко-дни, человеко-дни) | F4: Стоимость прочих прямых затрат на 1 койко-место (человека) (руб./день.) гр.6=гр.4/гр.5
A8: 1 | B8: 2 | C8: 3 | D8: 4 | E8: 5 | F8: 6
A9: 2.1.1. | B9: Предоставление помещений для организации социально-реабилитационных и социокультурных мероприятий | C9: моющие и дез.средства | F9: =D9/E9 -> #DIV/0!
A10: 2.1.2. | B10: Обеспечение питанием согласно утвержденным нормативам | C10: моющие и дез.средства, посуда, техника и мебель для кухни, коммунальные расходы | F10: =D10/E10 -> #DIV/0!
A11: 2.1.3. | B11: Предоставление в пользование мебели согласно утвержденным нормативам | C11: моющие и дез.средства | F11: =D11/E11 -> #DIV/0!
A12: 2.1.4. | B12: Обеспечение книгами, журналами, газетами, настольными играми, иным инвентарем для организации досуга | F12: =D12/E12 -> #DIV/0!
A13: 2.1.5. | B13: Предоставление постельных принадлежностей, спального места в специальном помещении | C13: моющие и дез.средства, услуги химчистки | F13: =D13/E13 -> #DIV/0!
A14: 3.1.1. | B14: Предоставление жилых помещений, помещений для организации социально-реабилитационных и социокультурных мероприятий | C14: Расходы на комм-услуги: - отопление,- водоснабжение, - элктроэнергия; Расходы на дератизацию и дезинфекцию; Вывоз мусора, Техническое обслуживание и текущий ремонт оборудования; Текущий ремонт зданий; Расходы на противопожарные мероприятия; Текущий ремонт автотранспорта | D14: 13726180 | E14: 117010 | F14: =D14/E14 -> 117.30775
A15: 3.1.2. | B15: Обеспечение питанием согласно утвержденным нормативам: | C15: Х | D15: Х | E15: Х | F15: Х
A16: 3.1.2.(1) | B16: Обеспечение питанием согласно утвержденным нормативам (для совершеннолетних в стационарных организациях (отделениях) социального обслуживания ). | C16: моющие и дез.средства, посуда, техника и мебель для кухни, коммунальные расходы | D16: 0 | E16: 117010 | F16: =D16/E16 -> 0
A17: 3.1.2.(2) | B17: Обеспечение питанием согласно утвержденным нормативам (для несовершеннолетних в стационарных организациях (отделениях) социального обслуживания). | C17: моющие и дез.средства, посуда, техника и мебель для кухни, коммунальные расходы | F17: =D17/E17 -> #DIV/0!
